Workbook

Sheet REGISTRO
A4: Formato Convocatoria Programa de Inversión Social 2026
G5: Si
A6: INSTRUCCIONES: Favor de llenar las casillas correspondientes con la información que se solicita. Las casillas que tienen un pequeño triángulo rojo en la esquina superior derecha contienen un comentario de aclaración, para visualizarlo sólo pase el cursor sobre la casilla. | G6: No
A10: INFORMACIÓN GENERAL
A11: Título de la iniciativa
A12: Nombre de la organización que presenta la iniciativa social
A13: Responsable 1
A14: Responsable 2
F15: Medio Ambiente
A16: DATOS DE CONTACTO DE LA ORGANIZACIÓN Y RESPONSABLE
A18: Nombre | B18: =B12 -> 0
A19: Siglas
A20: Domicilio fiscal
A21: Domicilio de la organización
A22: Teléfono fijo
A23: Sitio web
A24: Correo electrónico
A26: Nombre de responsable 1 | B26: =B13 -> 0
A27: Puesto en la organización
A28: Teléfono fijo
A29: Celular
A30: Correo electrónico
A31: Nombre de responsable 2 | B31: =B14 -> 0
A32: Puesto en la organización
A33: Teléfono fijo
A34: Celular
A35: Correo electrónico
A38: OTRA INFORMACIÓN DE LA ORGANIZACIÓN
A39: > ¿Se encuentra legalmente constituida?
A40: > Si la respuesta fue "Si", favor de llenar la siguiente información del acta constitutiva:
B41: Fecha de constitución legal:
B42: Número y volumen de escritura pública:
A43: > De la misma manera llenar la siguiente información del poder del representante legal:
B44: Nombre del representante legal:
B45: Fecha del acta donde se otorga poder al representante legal:
B46: Número y volumen de escritura pública:
A47: > Favor de indicar tipo de registro legal de la organización:
A48: > ¿Cuál es su objeto social autorizado por el SAT?
A52: > ¿Cuenta con documento vigente de acreditación de actividades?
A53: > ¿Es donataria autorizada?
...

Sheet PROBDIAG
A2: IDENTIFICACIÓN DEL PROBLEMA Y DIAGNÓSTICO
A4: > Describa el método utilizado para el diagnóstico de realidad social en donde se ubica el problema | F4: Caracteres restantes
F5: =1000-LEN(A5) -> 1000
A9: > Incluir adjunta a este formato evidencia del diagnóstico social realizado.
A11: > Describa brevemente cuál es el problema que se aborda con esta iniciativa social. | F11: Caracteres restantes
F12: =500-LEN(A12) -> 500
A15: > Mencione algunas causas y efectos del problema. | F15: Caracteres restantes
F16: =1000-LEN(A16) -> 1000
A19: > Describa el contexto en el que se ubica el problema y datos que describan la situación actual del mismo. | F19: Caracteres restantes
F20: =1000-LEN(A20) -> 1000
A23: > Describa brevemente cuál es la percepción que tienen los involucrados acerca del problema. | F23: Caracteres restantes
F24: =1000-LEN(A24) -> 1000
A28: CONTINÚE EN LA SIGUIENTE HOJA

Sheet JUST
A2: JUSTIFICACIÓN
A4: > ¿Cómo considera que esta iniciativa social contribuirá a la solución del problema? | I4: Caracteres restantes
I5: =1000-LEN(A5) -> 1000
A8: > Identifique las limitantes generales a las que se enfrentan. | I8: Caracteres restantes
I9: =1000-LEN(A9) -> 1000
A12: > Identifique las oportunidades que existen para el logro de los objetivos planteados. | I12: Caracteres restantes
I13: =1000-LEN(A13) -> 1000
A16: > Línea base de la población objetivo (si cuentan con algún documento favor de enviarlo junto con el formato de la iniciativa social). | I16: Caracteres restantes
I17: =1500-LEN(A17) -> 1500
A21: > Mencione el número de beneficiarios
A22: Beneficiarios directos:
B23: 0-14 años | C23: 15-21 años | D23: 22-35 años | E23: 36-50 años | F23: 51-65 años | G23: 66 en adelante | H23: TOTAL
A24: Mujeres | H24: =SUM(B24:G24) -> 0
A25: Hombres | H25: =SUM(B25:G25) -> 0
G26: TOTAL | H26: =SUM(H24:H25) -> 0
A27: Beneficiarios indirectos:
A28: Mujeres
A29: Hombres
A30: TOTAL | B30: =SUM(B28:B29) -> 0
A32: CONTINÚE EN LA SIGUIENTE HOJA

Sheet INICIATIVA SOCIAL
A2: RESUMEN NARRATIVO
A4: > ¿Cuál es la misión de la organización social que promueve la iniciativa social?
A11: > ¿Cuál es el objetivo general de la iniciativa social? | E11: Caracteres restantes
E12: =500-LEN(A12) -> 500
A17: > Mencione cuáles son los componentes (productos) para lograr el objetivo general, sus respectivas actividades, metas, métodos de verificación, responsables y supuestos.
B18: RESUMEN NARRATIVO | E18: METAS | F18: MEDIOS DE VERIFICACIÓN | G18: SUPUESTOS
A19: Componente 1
A20: Actividad 1
A21: Actividad 2
A22: Actividad 3
A23: Actividad 4
A24: Componente 2
A25: Actividad 1
A26: Actividad 2
A27: Actividad 3
A28: Actividad 4
A29: Componente 3
A30: Actividad 1
... A41: CONTINÚE EN LA SIGUIENTE HOJA
B43: Organización líder | D43: Año 2
B44: Organización colaboradora | D44: Año 3
B45: Ambas

Sheet CRONOGRAMA
A1: > ¿En que mes darán inicio las actividades?
A3: > Ubique en el calendario la(s) semana(s) en las que se desarrollarán las actividades de cada componente:
B4: 2027
B5: ENERO | F5: FEBRERO | J5: MARZO | N5: ABRIL | R5: MAYO | V5: JUNIO | Z5: JULIO | AD5: AGOSTO | AH5: SEPTIEMBRE | AL5: OCTUBRE | AP5: NOVIEMBRE | AT5: DICIEMBRE
B6: 1 | C6: 2 | D6: 3 | E6: 4 | F6: 5 | G6: 6 | H6: 7 | I6: 8 | J6: 9 | K6: 10 | L6: 11 | M6: 12 | N6: 13 | O6: 14 | P6: 15 | Q6: 16 | R6: 17 | S6: 18 | T6: 19 | U6: 20 | V6: 21 | W6: 22 | X6: 23 | Y6: 24 | Z6: 25 | AA6: 26 | AB6: 27 | AC6: 28 | AD6: 29 | AE6: 30 | AF6: 31 | AG6: 32 | AH6: 33 | AI6: 34 | AJ6: 35 | AK6: 36 | AL6: 37 | AM6: 38 | AN6: 39 | AO6: 40 | AP6: 41 | AQ6: 42 | AR6: 43 | AS6: 44 | AT6: 45 | AU6: 46 | AV6: 47 | AW6: 48
A7: Comp 1
A8: Comp 2
A9: Comp 3
A10: Comp 4
A15: CONTINÚE EN LA SIGUIENTE HOJA

Sheet IMPACTO
A1: IMPACTOS ESPERADOS
A3: > Mencione los impactos inmediatos esperados posteriores a la intervención. | F3: Caracteres restantes
F4: =1000-LEN(A4) -> 1000
A7: > Mencione los impactos esperados a mediano y largo plazo. | F7: Caracteres restantes
F8: =1000-LEN(A8) -> 1000
A12: CONTINÚE EN LA SIGUIENTE HOJA
A14: Memoria fotográfica
A15: Listas de asistencia
A16: Videos
A17: Convenios de colaboración/contratos
A18: Comprobantes de remuneraciones y de gastos
A19: Invitaciones, folletos, posters y documentos similares
A20: Listas de materiales
A21: Sistematización de experiencias/cartas descriptivas/cartas compromiso/curricula
A22: Encuestas/evaluaciones de entrada y salida/evaluaciones de rendimiento/exámenes
A23: Testimonios/Entrevistas a participantes
A24: Diagnósticos participativos
... A26: Otros (Mencionar en columna)

Sheet PRESUPUESTO
A2: > Identifique los recursos necesarios para el desarrollo de las actividades de cada componente:
B4: RECURSOS MATERIALES | E4: RECURSOS HUMANOS
A5: COMP 1
A6: COMP 2
A7: COMP 3
A8: COMP 4
A10: PRESUPUESTO
A11: >Recursos Materiales
A12: CONCEPTO | B12: UNIDAD | C12: PRECIO UNITARIO | D12: CANTIDAD | E12: TOTAL | F12: APORTACIÓN OSC RESPONSABLE | G12: SOLICITADO A FTM | H12: COMPONENTES RELACIONADO(S)
E13: =D13*C13 -> 0 | G13: =E13-F13 -> 0
E14: =D14*C14 -> 0 | G14: =E14-F14 -> 0
E15: =D15*C15 -> 0 | G15: =E15-F15 -> 0
E16: =D16*C16 -> 0 | G16: =E16-F16 -> 0
E17: =D17*C17 -> 0 | G17: =E17-F17 -> 0
E18: =D18*C18 -> 0 | G18: =E18-F18 -> 0
E19: =D19*C19 -> 0 | G19: =E19-F19 -> 0
E20: =D20*C20 -> 0 | G20: =E20-F20 -> 0
E21: =D21*C21 -> 0 | G21: =E21-F21 -> 0
E22: =D22*C22 -> 0 | G22: =E22-F22 -> 0
E23: =D23*C23 -> 0 | G23: =E23-F23 -> 0
E24: =D24*C24 -> 0 | G24: =E24-F24 -> 0
... E40: =D40*C40 -> 0 | G40: =E40-F40 -> 0
D41: SUMA: | E41: =SUM(E13:E40) -> 0 | F41: =SUM(F13:F40) -> 0 | G41: =SUM(G13:G40) -> 0
A42: >Recursos Humanos
A43: CONCEPTO | B43: UNIDAD | C43: COSTO UNITARIO | D43: CANTIDAD | E43: TOTAL | F43: APORTACIÓN OSC RESPONSABLE | G43: SOLICITADO A FTM | H43: COMPONENTES RELACIONADO(S)
E44: =D44*C44 -> 0 | G44: =E44-F44 -> 0
E45: =D45*C45 -> 0 | G45: =E45-F45 -> 0
E46: =D46*C46 -> 0 | G46: =E46-F46 -> 0
E47: =D47*C47 -> 0 | G47: =E47-F47 -> 0
E48: =D48*C48 -> 0 | G48: =E48-F48 -> 0
E49: =D49*C49 -> 0 | G49: =E49-F49 -> 0
E50: =D50*C50 -> 0 | G50: =E50-F50 -> 0
E51: =D51*C51 -> 0 | G51: =E51-F51 -> 0
E52: =D52*C52 -> 0 | G52: =E52-F52 -> 0
E53: =D53*C53 -> 0 | G53: =E53-F53 -> 0
E54: =D54*C54 -> 0 | G54: =E54-F54 -> 0
D55: SUMA: | E55: =SUM(E44:E54) -> 0 | F55: =SUM(F44:F54) -> 0 | G55: =SUM(G44:G54) -> 0
D57: Totales: | E57: =+E41+E55 -> 0 | F57: =+F41+F55 -> 0 | G57: =+G41+G55 -> 0
A58: > Porcentaje del costo del proyecto que será cubierto por la organización | G58: =(F41+F55)/(E41+E55) -> #DIV/0!

Sheet ASPGEN
A2: ASPECTOS GENERALES
A4: > Mencione la escolaridad y/o ocupación profesional del responsable. | F4: Caracteres restantes
F5: =500-LEN(A5) -> 500
A8: > ¿Cuál es la experiencia profesional del responsable en relación con a la iniciativa social aquí presentada? | F8: Caracteres restantes
F9: =800-LEN(A9) -> 800
A13: > ¿De qué forma los beneficiados han participado y/o participarán en el desarrollo de las actividades? | F13: Caracteres restantes
F14: =500-LEN(A14) -> 500
A17: > ¿Las personas del entorno conocen la iniciativa social? Si la respuesta es afirmativa, explique a qué nivel conocen este proyecto. Si la respuesta es no, explique si existe alguna estrategia para involucrarlos en las actividades. | F17: Caracteres restantes
F18: =500-LEN(A18) -> 500
A20: > ¿De qué forma se planea dar difusión a las actividades y logros? | F20: Caracteres restantes
F21: =500-LEN(A21) -> 500
A24: ¿Considera que esta iniciativa social puede ser sistematizada y replicada por otras organizaciones? explique el porqué: | F24: Caracteres restantes
F25: =500-LEN(A25) -> 500
A28: > Indique las principales fuentes de financiamiento de la organización y el porcentaje que representan respecto al total de ingresos.
A29: fuente ingresos 1: | D29: %
A30: fuente ingresos 2: | D30: %
A31: fuente ingresos 3: | D31: %
A32: fuente ingresos 4: | D32: %
D33: Total % | E33: =SUM(E29:E32) -> 0
A34: > ¿Cómo se enteró de esta convocatoria lanzada por la Fundación Tichi Muñoz?
A38: Favor de guardar el archivo nombrándolo con el siguiente formato "Proyecto (iniciales de la organización)(año)", por ejemplo "Proyecto ABC2026" y enviar por correo electrónico a la dirección: convocatoria@ftm.org.mx
A43: Última actualización: Agosto de 2026

Sheet RESUMEN
A4: Resumen de proyecto Convocatoria FTM 2013
A6: INFORMACIÓN GENERAL DEL PROYECTO
A7: Titulo del proyecto | B7: =REGISTRO!B11 -> 0
A8: Nombre de la organización que lidera el proyecto | B8: =REGISTRO!B12 -> 0
A9: ¿El proyecto se presenta en alianza? | C9: =REGISTRO!#REF! -> #REF!
A10: Nombre de la organización colaboradora 1 | B10: =REGISTRO!#REF! -> #REF!
A11: Nombre de la organización colaboradora 2 | B11: =REGISTRO!#REF! -> #REF!
A13: IDENTIFICACIÓN DEL PROBLEMA Y DIAGNÓSTICO
A14: > ¿Puede proporcionar evidencia de diagnóstico de realidad social? | D14: =PROBDIAG!E9 -> 0
A15: > ¿Cuál es el problema que aborda el proyecto?
A16: =PROBDIAG!A12 -> 0
A21: JUSTIFICACIÓN
A22: > ¿Cómo considera que el proyecto contribuirá a la solución del problema?
A23: =JUST!A5 -> 0
A29: > Número de beneficiarios
A30: Directos | B30: =JUST!H26 -> 0 | C30: Indirectos | D30: =JUST!B30 -> 0
A32: DESARROLLO
A33: > ¿Cuál es el objetivo general del proyecto?
A34: ='INICIATIVA SOCIAL'!A12 -> 0
A39: > ¿Cuales son los objetivos específicos?
A40: OE 1 | B40: ='INICIATIVA SOCIAL'!B19 -> 0
A41: OE 2 | B41: ='INICIATIVA SOCIAL'!B24 -> 0
A42: OE 3 | B42: ='INICIATIVA SOCIAL'!B29 -> 0
A43: OE 4 | B43: ='INICIATIVA SOCIAL'!B38 -> 0
A44: OE 5 | B44: ='INICIATIVA SOCIAL'!#REF! -> #REF!
A46: IMPACTOS ESPERADOS
A47: > Impactos esperados de su intervención.
A48: =IMPACTO!A4 -> 0
A53: RECURSOS
A55: Recurso aportado por la Organización | C55: =PRESUPUESTO!F57 -> 0
A56: Recurso solicitado a la FTM | C56: =PRESUPUESTO!G57 -> 0
A57: Costo total del proyecto | C57: =PRESUPUESTO!E57 -> 0
